BEGIN:VCALENDAR
VERSION:2.0
PRODID:-//Feldenkrais Method - ECPv6.11.0//NONSGML v1.0//EN
CALSCALE:GREGORIAN
METHOD:PUBLISH
X-WR-CALNAME:Feldenkrais Method
X-ORIGINAL-URL:https://feldenkrais.com
X-WR-CALDESC:Events for Feldenkrais Method
REFRESH-INTERVAL;VALUE=DURATION:PT1H
X-Robots-Tag:noindex
X-PUBLISHED-TTL:PT1H
BEGIN:VTIMEZONE
TZID:America/New_York
BEGIN:DAYLIGHT
TZOFFSETFROM:-0500
TZOFFSETTO:-0400
TZNAME:EDT
DTSTART:20260308T070000
END:DAYLIGHT
BEGIN:STANDARD
TZOFFSETFROM:-0400
TZOFFSETTO:-0500
TZNAME:EST
DTSTART:20261101T060000
END:STANDARD
END:VTIMEZONE
BEGIN:VEVENT
DTSTART;VALUE=DATE:20260422
DTEND;VALUE=DATE:20260423
DTSTAMP:20260423T042909
CREATED:20250213T152818Z
LAST-MODIFIED:20250213T152818Z
UID:10411031-1776816000-1776902399@feldenkrais.com
SUMMARY:Sounder Sleep System™ Training
DESCRIPTION:The Sounder Sleep System™ is based on the discovery that certain small\, slow\, repeated physical movements can shift us from the active\, waking state to a state of profound physical and mental repose. When we reach that tranquil state\, if we need sleep\, we will fall asleep. \nThe core principle of the Sounder Sleep System is that we can use small\, slow\, gentle bodily movements to initiate and amplify the nervous system’s inhibitory process\, at will. The result is natural\, restful sleep whenever we need it. \nThis is the second module in a three module training to be a certified Sounder Sleep System™ teacher. You can take the modules in any order and you can take one module stand alone for your own personal growth. Feldenkrais® Movement practitioners can receive Continuing Competence credit for this workshop. \nTeacher: Paris Kern is a singer\, communicator\, community builder\, and teacher. She has been a Sounder Sleep System® Teacher since 1999 when its creator\, Michael Krugman\, completed his first teacher training . She has also been Feldenkrais Movement Practitioner since 1992\, and has attained the highest professional certification as a designated Feldenkrais Movement Teacher Trainer.
URL:https://feldenkrais.com/event/sounder-sleep-system-training/2026-04-22/
LOCATION:The Arlington Center\, 369 Mass Ave\, Arlington\, MA\, 02474\, US
CATEGORIES:In-Person Workshops
ATTACH;FMTTYPE=image/png:https://feldenkrais.com/wp-content/uploads/2025/02/1.png
ORGANIZER;CN="Eve Boltax":MAILTO:eve@feldenkraisjamaicaplain.com
GEO:42.4124522;-71.1485882
X-APPLE-STRUCTURED-LOCATION;VALUE=URI;X-ADDRESS=The Arlington Center 369 Mass Ave Arlington MA 02474 US;X-APPLE-RADIUS=500;X-TITLE=369 Mass Ave:geo:-71.1485882,42.4124522
END:VEVENT
END:VCALENDAR