BEGIN:VCALENDAR
VERSION:2.0
PRODID:-//Feldenkrais Method - ECPv6.11.0//NONSGML v1.0//EN
CALSCALE:GREGORIAN
METHOD:PUBLISH
X-ORIGINAL-URL:https://feldenkrais.com
X-WR-CALDESC:Events for Feldenkrais Method
REFRESH-INTERVAL;VALUE=DURATION:PT1H
X-Robots-Tag:noindex
X-PUBLISHED-TTL:PT1H
BEGIN:VTIMEZONE
TZID:America/New_York
BEGIN:DAYLIGHT
TZOFFSETFROM:-0500
TZOFFSETTO:-0400
TZNAME:EDT
DTSTART:20260308T070000
END:DAYLIGHT
BEGIN:STANDARD
TZOFFSETFROM:-0400
TZOFFSETTO:-0500
TZNAME:EST
DTSTART:20261101T060000
END:STANDARD
END:VTIMEZONE
BEGIN:VEVENT
DTSTART;TZID=America/New_York:20260424T100000
DTEND;TZID=America/New_York:20260424T110000
DTSTAMP:20260423T091138
CREATED:20260303T145346Z
LAST-MODIFIED:20260303T145346Z
UID:10421911-1777024800-1777028400@feldenkrais.com
SUMMARY:POSTURE
DESCRIPTION:March classes will focus on posture–how Awareness Through Movement® can help us negotiate with gravity so we can sit\, stand and walk with greater presence and ease. The lessons this month will focus on finding more space and length in the spine and accessing the spine-supporting muscles of the abdomen\, pelvic floor\, and back. Gravity is a constant\, but you can learn to sense it and use it to give you more freedom.
URL:https://feldenkrais.com/event/posture/2026-04-24/
CATEGORIES:Online Classes
ORGANIZER;CN="Margaret Pierpont":MAILTO:mp.feldenkrais@gmail.com
END:VEVENT
BEGIN:VEVENT
DTSTART;TZID=America/New_York:20260501T100000
DTEND;TZID=America/New_York:20260501T110000
DTSTAMP:20260423T091138
CREATED:20260303T145346Z
LAST-MODIFIED:20260303T145346Z
UID:10421912-1777629600-1777633200@feldenkrais.com
SUMMARY:POSTURE
DESCRIPTION:March classes will focus on posture–how Awareness Through Movement® can help us negotiate with gravity so we can sit\, stand and walk with greater presence and ease. The lessons this month will focus on finding more space and length in the spine and accessing the spine-supporting muscles of the abdomen\, pelvic floor\, and back. Gravity is a constant\, but you can learn to sense it and use it to give you more freedom.
URL:https://feldenkrais.com/event/posture/2026-05-01/
CATEGORIES:Online Classes
ORGANIZER;CN="Margaret Pierpont":MAILTO:mp.feldenkrais@gmail.com
END:VEVENT
BEGIN:VEVENT
DTSTART;TZID=America/New_York:20260508T100000
DTEND;TZID=America/New_York:20260508T110000
DTSTAMP:20260423T091138
CREATED:20260303T145346Z
LAST-MODIFIED:20260303T145346Z
UID:10421913-1778234400-1778238000@feldenkrais.com
SUMMARY:POSTURE
DESCRIPTION:March classes will focus on posture–how Awareness Through Movement® can help us negotiate with gravity so we can sit\, stand and walk with greater presence and ease. The lessons this month will focus on finding more space and length in the spine and accessing the spine-supporting muscles of the abdomen\, pelvic floor\, and back. Gravity is a constant\, but you can learn to sense it and use it to give you more freedom.
URL:https://feldenkrais.com/event/posture/2026-05-08/
CATEGORIES:Online Classes
ORGANIZER;CN="Margaret Pierpont":MAILTO:mp.feldenkrais@gmail.com
END:VEVENT
BEGIN:VEVENT
DTSTART;TZID=America/New_York:20260515T100000
DTEND;TZID=America/New_York:20260515T110000
DTSTAMP:20260423T091138
CREATED:20260303T145346Z
LAST-MODIFIED:20260303T145346Z
UID:10421914-1778839200-1778842800@feldenkrais.com
SUMMARY:POSTURE
DESCRIPTION:March classes will focus on posture–how Awareness Through Movement® can help us negotiate with gravity so we can sit\, stand and walk with greater presence and ease. The lessons this month will focus on finding more space and length in the spine and accessing the spine-supporting muscles of the abdomen\, pelvic floor\, and back. Gravity is a constant\, but you can learn to sense it and use it to give you more freedom.
URL:https://feldenkrais.com/event/posture/2026-05-15/
CATEGORIES:Online Classes
ORGANIZER;CN="Margaret Pierpont":MAILTO:mp.feldenkrais@gmail.com
END:VEVENT
BEGIN:VEVENT
DTSTART;TZID=America/New_York:20260522T100000
DTEND;TZID=America/New_York:20260522T110000
DTSTAMP:20260423T091138
CREATED:20260303T145346Z
LAST-MODIFIED:20260303T145346Z
UID:10421915-1779444000-1779447600@feldenkrais.com
SUMMARY:POSTURE
DESCRIPTION:March classes will focus on posture–how Awareness Through Movement® can help us negotiate with gravity so we can sit\, stand and walk with greater presence and ease. The lessons this month will focus on finding more space and length in the spine and accessing the spine-supporting muscles of the abdomen\, pelvic floor\, and back. Gravity is a constant\, but you can learn to sense it and use it to give you more freedom.
URL:https://feldenkrais.com/event/posture/2026-05-22/
CATEGORIES:Online Classes
ORGANIZER;CN="Margaret Pierpont":MAILTO:mp.feldenkrais@gmail.com
END:VEVENT
BEGIN:VEVENT
DTSTART;TZID=America/New_York:20260529T100000
DTEND;TZID=America/New_York:20260529T110000
DTSTAMP:20260423T091138
CREATED:20260303T145346Z
LAST-MODIFIED:20260303T145346Z
UID:10421916-1780048800-1780052400@feldenkrais.com
SUMMARY:POSTURE
DESCRIPTION:March classes will focus on posture–how Awareness Through Movement® can help us negotiate with gravity so we can sit\, stand and walk with greater presence and ease. The lessons this month will focus on finding more space and length in the spine and accessing the spine-supporting muscles of the abdomen\, pelvic floor\, and back. Gravity is a constant\, but you can learn to sense it and use it to give you more freedom.
URL:https://feldenkrais.com/event/posture/2026-05-29/
CATEGORIES:Online Classes
ORGANIZER;CN="Margaret Pierpont":MAILTO:mp.feldenkrais@gmail.com
END:VEVENT
BEGIN:VEVENT
DTSTART;TZID=America/New_York:20260605T100000
DTEND;TZID=America/New_York:20260605T110000
DTSTAMP:20260423T091138
CREATED:20260303T145346Z
LAST-MODIFIED:20260303T145346Z
UID:10421917-1780653600-1780657200@feldenkrais.com
SUMMARY:POSTURE
DESCRIPTION:March classes will focus on posture–how Awareness Through Movement® can help us negotiate with gravity so we can sit\, stand and walk with greater presence and ease. The lessons this month will focus on finding more space and length in the spine and accessing the spine-supporting muscles of the abdomen\, pelvic floor\, and back. Gravity is a constant\, but you can learn to sense it and use it to give you more freedom.
URL:https://feldenkrais.com/event/posture/2026-06-05/
CATEGORIES:Online Classes
ORGANIZER;CN="Margaret Pierpont":MAILTO:mp.feldenkrais@gmail.com
END:VEVENT
BEGIN:VEVENT
DTSTART;TZID=America/New_York:20260612T100000
DTEND;TZID=America/New_York:20260612T110000
DTSTAMP:20260423T091138
CREATED:20260303T145346Z
LAST-MODIFIED:20260303T145346Z
UID:10421918-1781258400-1781262000@feldenkrais.com
SUMMARY:POSTURE
DESCRIPTION:March classes will focus on posture–how Awareness Through Movement® can help us negotiate with gravity so we can sit\, stand and walk with greater presence and ease. The lessons this month will focus on finding more space and length in the spine and accessing the spine-supporting muscles of the abdomen\, pelvic floor\, and back. Gravity is a constant\, but you can learn to sense it and use it to give you more freedom.
URL:https://feldenkrais.com/event/posture/2026-06-12/
CATEGORIES:Online Classes
ORGANIZER;CN="Margaret Pierpont":MAILTO:mp.feldenkrais@gmail.com
END:VEVENT
BEGIN:VEVENT
DTSTART;TZID=America/New_York:20260619T100000
DTEND;TZID=America/New_York:20260619T110000
DTSTAMP:20260423T091139
CREATED:20260303T145346Z
LAST-MODIFIED:20260303T145346Z
UID:10421919-1781863200-1781866800@feldenkrais.com
SUMMARY:POSTURE
DESCRIPTION:March classes will focus on posture–how Awareness Through Movement® can help us negotiate with gravity so we can sit\, stand and walk with greater presence and ease. The lessons this month will focus on finding more space and length in the spine and accessing the spine-supporting muscles of the abdomen\, pelvic floor\, and back. Gravity is a constant\, but you can learn to sense it and use it to give you more freedom.
URL:https://feldenkrais.com/event/posture/2026-06-19/
CATEGORIES:Online Classes
ORGANIZER;CN="Margaret Pierpont":MAILTO:mp.feldenkrais@gmail.com
END:VEVENT
BEGIN:VEVENT
DTSTART;TZID=America/New_York:20260626T100000
DTEND;TZID=America/New_York:20260626T110000
DTSTAMP:20260423T091139
CREATED:20260303T145346Z
LAST-MODIFIED:20260303T145346Z
UID:10421920-1782468000-1782471600@feldenkrais.com
SUMMARY:POSTURE
DESCRIPTION:March classes will focus on posture–how Awareness Through Movement® can help us negotiate with gravity so we can sit\, stand and walk with greater presence and ease. The lessons this month will focus on finding more space and length in the spine and accessing the spine-supporting muscles of the abdomen\, pelvic floor\, and back. Gravity is a constant\, but you can learn to sense it and use it to give you more freedom.
URL:https://feldenkrais.com/event/posture/2026-06-26/
CATEGORIES:Online Classes
ORGANIZER;CN="Margaret Pierpont":MAILTO:mp.feldenkrais@gmail.com
END:VEVENT
BEGIN:VEVENT
DTSTART;TZID=America/New_York:20260703T100000
DTEND;TZID=America/New_York:20260703T110000
DTSTAMP:20260423T091139
CREATED:20260303T145346Z
LAST-MODIFIED:20260303T145346Z
UID:10421921-1783072800-1783076400@feldenkrais.com
SUMMARY:POSTURE
DESCRIPTION:March classes will focus on posture–how Awareness Through Movement® can help us negotiate with gravity so we can sit\, stand and walk with greater presence and ease. The lessons this month will focus on finding more space and length in the spine and accessing the spine-supporting muscles of the abdomen\, pelvic floor\, and back. Gravity is a constant\, but you can learn to sense it and use it to give you more freedom.
URL:https://feldenkrais.com/event/posture/2026-07-03/
CATEGORIES:Online Classes
ORGANIZER;CN="Margaret Pierpont":MAILTO:mp.feldenkrais@gmail.com
END:VEVENT
BEGIN:VEVENT
DTSTART;TZID=America/New_York:20260710T100000
DTEND;TZID=America/New_York:20260710T110000
DTSTAMP:20260423T091139
CREATED:20260303T145346Z
LAST-MODIFIED:20260303T145346Z
UID:10421922-1783677600-1783681200@feldenkrais.com
SUMMARY:POSTURE
DESCRIPTION:March classes will focus on posture–how Awareness Through Movement® can help us negotiate with gravity so we can sit\, stand and walk with greater presence and ease. The lessons this month will focus on finding more space and length in the spine and accessing the spine-supporting muscles of the abdomen\, pelvic floor\, and back. Gravity is a constant\, but you can learn to sense it and use it to give you more freedom.
URL:https://feldenkrais.com/event/posture/2026-07-10/
CATEGORIES:Online Classes
ORGANIZER;CN="Margaret Pierpont":MAILTO:mp.feldenkrais@gmail.com
END:VEVENT
BEGIN:VEVENT
DTSTART;TZID=America/New_York:20260717T100000
DTEND;TZID=America/New_York:20260717T110000
DTSTAMP:20260423T091139
CREATED:20260303T145346Z
LAST-MODIFIED:20260303T145346Z
UID:10421923-1784282400-1784286000@feldenkrais.com
SUMMARY:POSTURE
DESCRIPTION:March classes will focus on posture–how Awareness Through Movement® can help us negotiate with gravity so we can sit\, stand and walk with greater presence and ease. The lessons this month will focus on finding more space and length in the spine and accessing the spine-supporting muscles of the abdomen\, pelvic floor\, and back. Gravity is a constant\, but you can learn to sense it and use it to give you more freedom.
URL:https://feldenkrais.com/event/posture/2026-07-17/
CATEGORIES:Online Classes
ORGANIZER;CN="Margaret Pierpont":MAILTO:mp.feldenkrais@gmail.com
END:VEVENT
BEGIN:VEVENT
DTSTART;TZID=America/New_York:20260724T100000
DTEND;TZID=America/New_York:20260724T110000
DTSTAMP:20260423T091139
CREATED:20260303T145346Z
LAST-MODIFIED:20260303T145346Z
UID:10421924-1784887200-1784890800@feldenkrais.com
SUMMARY:POSTURE
DESCRIPTION:March classes will focus on posture–how Awareness Through Movement® can help us negotiate with gravity so we can sit\, stand and walk with greater presence and ease. The lessons this month will focus on finding more space and length in the spine and accessing the spine-supporting muscles of the abdomen\, pelvic floor\, and back. Gravity is a constant\, but you can learn to sense it and use it to give you more freedom.
URL:https://feldenkrais.com/event/posture/2026-07-24/
CATEGORIES:Online Classes
ORGANIZER;CN="Margaret Pierpont":MAILTO:mp.feldenkrais@gmail.com
END:VEVENT
BEGIN:VEVENT
DTSTART;TZID=America/New_York:20260731T100000
DTEND;TZID=America/New_York:20260731T110000
DTSTAMP:20260423T091139
CREATED:20260303T145346Z
LAST-MODIFIED:20260303T145346Z
UID:10421925-1785492000-1785495600@feldenkrais.com
SUMMARY:POSTURE
DESCRIPTION:March classes will focus on posture–how Awareness Through Movement® can help us negotiate with gravity so we can sit\, stand and walk with greater presence and ease. The lessons this month will focus on finding more space and length in the spine and accessing the spine-supporting muscles of the abdomen\, pelvic floor\, and back. Gravity is a constant\, but you can learn to sense it and use it to give you more freedom.
URL:https://feldenkrais.com/event/posture/2026-07-31/
CATEGORIES:Online Classes
ORGANIZER;CN="Margaret Pierpont":MAILTO:mp.feldenkrais@gmail.com
END:VEVENT
BEGIN:VEVENT
DTSTART;TZID=America/New_York:20260807T100000
DTEND;TZID=America/New_York:20260807T110000
DTSTAMP:20260423T091139
CREATED:20260303T145346Z
LAST-MODIFIED:20260303T145346Z
UID:10421926-1786096800-1786100400@feldenkrais.com
SUMMARY:POSTURE
DESCRIPTION:March classes will focus on posture–how Awareness Through Movement® can help us negotiate with gravity so we can sit\, stand and walk with greater presence and ease. The lessons this month will focus on finding more space and length in the spine and accessing the spine-supporting muscles of the abdomen\, pelvic floor\, and back. Gravity is a constant\, but you can learn to sense it and use it to give you more freedom.
URL:https://feldenkrais.com/event/posture/2026-08-07/
CATEGORIES:Online Classes
ORGANIZER;CN="Margaret Pierpont":MAILTO:mp.feldenkrais@gmail.com
END:VEVENT
BEGIN:VEVENT
DTSTART;TZID=America/New_York:20260814T100000
DTEND;TZID=America/New_York:20260814T110000
DTSTAMP:20260423T091139
CREATED:20260303T145346Z
LAST-MODIFIED:20260303T145346Z
UID:10421927-1786701600-1786705200@feldenkrais.com
SUMMARY:POSTURE
DESCRIPTION:March classes will focus on posture–how Awareness Through Movement® can help us negotiate with gravity so we can sit\, stand and walk with greater presence and ease. The lessons this month will focus on finding more space and length in the spine and accessing the spine-supporting muscles of the abdomen\, pelvic floor\, and back. Gravity is a constant\, but you can learn to sense it and use it to give you more freedom.
URL:https://feldenkrais.com/event/posture/2026-08-14/
CATEGORIES:Online Classes
ORGANIZER;CN="Margaret Pierpont":MAILTO:mp.feldenkrais@gmail.com
END:VEVENT
BEGIN:VEVENT
DTSTART;TZID=America/New_York:20260821T100000
DTEND;TZID=America/New_York:20260821T110000
DTSTAMP:20260423T091139
CREATED:20260303T145346Z
LAST-MODIFIED:20260303T145346Z
UID:10421928-1787306400-1787310000@feldenkrais.com
SUMMARY:POSTURE
DESCRIPTION:March classes will focus on posture–how Awareness Through Movement® can help us negotiate with gravity so we can sit\, stand and walk with greater presence and ease. The lessons this month will focus on finding more space and length in the spine and accessing the spine-supporting muscles of the abdomen\, pelvic floor\, and back. Gravity is a constant\, but you can learn to sense it and use it to give you more freedom.
URL:https://feldenkrais.com/event/posture/2026-08-21/
CATEGORIES:Online Classes
ORGANIZER;CN="Margaret Pierpont":MAILTO:mp.feldenkrais@gmail.com
END:VEVENT
BEGIN:VEVENT
DTSTART;TZID=America/New_York:20260828T100000
DTEND;TZID=America/New_York:20260828T110000
DTSTAMP:20260423T091139
CREATED:20260303T145346Z
LAST-MODIFIED:20260303T145346Z
UID:10421929-1787911200-1787914800@feldenkrais.com
SUMMARY:POSTURE
DESCRIPTION:March classes will focus on posture–how Awareness Through Movement® can help us negotiate with gravity so we can sit\, stand and walk with greater presence and ease. The lessons this month will focus on finding more space and length in the spine and accessing the spine-supporting muscles of the abdomen\, pelvic floor\, and back. Gravity is a constant\, but you can learn to sense it and use it to give you more freedom.
URL:https://feldenkrais.com/event/posture/2026-08-28/
CATEGORIES:Online Classes
ORGANIZER;CN="Margaret Pierpont":MAILTO:mp.feldenkrais@gmail.com
END:VEVENT
BEGIN:VEVENT
DTSTART;TZID=America/New_York:20260904T100000
DTEND;TZID=America/New_York:20260904T110000
DTSTAMP:20260423T091139
CREATED:20260303T145346Z
LAST-MODIFIED:20260303T145346Z
UID:10421930-1788516000-1788519600@feldenkrais.com
SUMMARY:POSTURE
DESCRIPTION:March classes will focus on posture–how Awareness Through Movement® can help us negotiate with gravity so we can sit\, stand and walk with greater presence and ease. The lessons this month will focus on finding more space and length in the spine and accessing the spine-supporting muscles of the abdomen\, pelvic floor\, and back. Gravity is a constant\, but you can learn to sense it and use it to give you more freedom.
URL:https://feldenkrais.com/event/posture/2026-09-04/
CATEGORIES:Online Classes
ORGANIZER;CN="Margaret Pierpont":MAILTO:mp.feldenkrais@gmail.com
END:VEVENT
BEGIN:VEVENT
DTSTART;TZID=America/New_York:20260911T100000
DTEND;TZID=America/New_York:20260911T110000
DTSTAMP:20260423T091139
CREATED:20260303T145346Z
LAST-MODIFIED:20260303T145346Z
UID:10421931-1789120800-1789124400@feldenkrais.com
SUMMARY:POSTURE
DESCRIPTION:March classes will focus on posture–how Awareness Through Movement® can help us negotiate with gravity so we can sit\, stand and walk with greater presence and ease. The lessons this month will focus on finding more space and length in the spine and accessing the spine-supporting muscles of the abdomen\, pelvic floor\, and back. Gravity is a constant\, but you can learn to sense it and use it to give you more freedom.
URL:https://feldenkrais.com/event/posture/2026-09-11/
CATEGORIES:Online Classes
ORGANIZER;CN="Margaret Pierpont":MAILTO:mp.feldenkrais@gmail.com
END:VEVENT
BEGIN:VEVENT
DTSTART;TZID=America/New_York:20260918T100000
DTEND;TZID=America/New_York:20260918T110000
DTSTAMP:20260423T091139
CREATED:20260303T145346Z
LAST-MODIFIED:20260303T145346Z
UID:10421932-1789725600-1789729200@feldenkrais.com
SUMMARY:POSTURE
DESCRIPTION:March classes will focus on posture–how Awareness Through Movement® can help us negotiate with gravity so we can sit\, stand and walk with greater presence and ease. The lessons this month will focus on finding more space and length in the spine and accessing the spine-supporting muscles of the abdomen\, pelvic floor\, and back. Gravity is a constant\, but you can learn to sense it and use it to give you more freedom.
URL:https://feldenkrais.com/event/posture/2026-09-18/
CATEGORIES:Online Classes
ORGANIZER;CN="Margaret Pierpont":MAILTO:mp.feldenkrais@gmail.com
END:VEVENT
BEGIN:VEVENT
DTSTART;TZID=America/New_York:20260925T100000
DTEND;TZID=America/New_York:20260925T110000
DTSTAMP:20260423T091139
CREATED:20260303T145346Z
LAST-MODIFIED:20260303T145346Z
UID:10421933-1790330400-1790334000@feldenkrais.com
SUMMARY:POSTURE
DESCRIPTION:March classes will focus on posture–how Awareness Through Movement® can help us negotiate with gravity so we can sit\, stand and walk with greater presence and ease. The lessons this month will focus on finding more space and length in the spine and accessing the spine-supporting muscles of the abdomen\, pelvic floor\, and back. Gravity is a constant\, but you can learn to sense it and use it to give you more freedom.
URL:https://feldenkrais.com/event/posture/2026-09-25/
CATEGORIES:Online Classes
ORGANIZER;CN="Margaret Pierpont":MAILTO:mp.feldenkrais@gmail.com
END:VEVENT
BEGIN:VEVENT
DTSTART;TZID=America/New_York:20261002T100000
DTEND;TZID=America/New_York:20261002T110000
DTSTAMP:20260423T091139
CREATED:20260303T145346Z
LAST-MODIFIED:20260303T145346Z
UID:10421934-1790935200-1790938800@feldenkrais.com
SUMMARY:POSTURE
DESCRIPTION:March classes will focus on posture–how Awareness Through Movement® can help us negotiate with gravity so we can sit\, stand and walk with greater presence and ease. The lessons this month will focus on finding more space and length in the spine and accessing the spine-supporting muscles of the abdomen\, pelvic floor\, and back. Gravity is a constant\, but you can learn to sense it and use it to give you more freedom.
URL:https://feldenkrais.com/event/posture/2026-10-02/
CATEGORIES:Online Classes
ORGANIZER;CN="Margaret Pierpont":MAILTO:mp.feldenkrais@gmail.com
END:VEVENT
BEGIN:VEVENT
DTSTART;TZID=America/New_York:20261009T100000
DTEND;TZID=America/New_York:20261009T110000
DTSTAMP:20260423T091139
CREATED:20260303T145346Z
LAST-MODIFIED:20260303T145346Z
UID:10421935-1791540000-1791543600@feldenkrais.com
SUMMARY:POSTURE
DESCRIPTION:March classes will focus on posture–how Awareness Through Movement® can help us negotiate with gravity so we can sit\, stand and walk with greater presence and ease. The lessons this month will focus on finding more space and length in the spine and accessing the spine-supporting muscles of the abdomen\, pelvic floor\, and back. Gravity is a constant\, but you can learn to sense it and use it to give you more freedom.
URL:https://feldenkrais.com/event/posture/2026-10-09/
CATEGORIES:Online Classes
ORGANIZER;CN="Margaret Pierpont":MAILTO:mp.feldenkrais@gmail.com
END:VEVENT
BEGIN:VEVENT
DTSTART;TZID=America/New_York:20261016T100000
DTEND;TZID=America/New_York:20261016T110000
DTSTAMP:20260423T091139
CREATED:20260303T145346Z
LAST-MODIFIED:20260303T145346Z
UID:10421936-1792144800-1792148400@feldenkrais.com
SUMMARY:POSTURE
DESCRIPTION:March classes will focus on posture–how Awareness Through Movement® can help us negotiate with gravity so we can sit\, stand and walk with greater presence and ease. The lessons this month will focus on finding more space and length in the spine and accessing the spine-supporting muscles of the abdomen\, pelvic floor\, and back. Gravity is a constant\, but you can learn to sense it and use it to give you more freedom.
URL:https://feldenkrais.com/event/posture/2026-10-16/
CATEGORIES:Online Classes
ORGANIZER;CN="Margaret Pierpont":MAILTO:mp.feldenkrais@gmail.com
END:VEVENT
BEGIN:VEVENT
DTSTART;TZID=America/New_York:20261023T100000
DTEND;TZID=America/New_York:20261023T110000
DTSTAMP:20260423T091139
CREATED:20260303T145346Z
LAST-MODIFIED:20260303T145346Z
UID:10421937-1792749600-1792753200@feldenkrais.com
SUMMARY:POSTURE
DESCRIPTION:March classes will focus on posture–how Awareness Through Movement® can help us negotiate with gravity so we can sit\, stand and walk with greater presence and ease. The lessons this month will focus on finding more space and length in the spine and accessing the spine-supporting muscles of the abdomen\, pelvic floor\, and back. Gravity is a constant\, but you can learn to sense it and use it to give you more freedom.
URL:https://feldenkrais.com/event/posture/2026-10-23/
CATEGORIES:Online Classes
ORGANIZER;CN="Margaret Pierpont":MAILTO:mp.feldenkrais@gmail.com
END:VEVENT
BEGIN:VEVENT
DTSTART;TZID=America/New_York:20261030T100000
DTEND;TZID=America/New_York:20261030T110000
DTSTAMP:20260423T091139
CREATED:20260303T145346Z
LAST-MODIFIED:20260303T145346Z
UID:10421938-1793354400-1793358000@feldenkrais.com
SUMMARY:POSTURE
DESCRIPTION:March classes will focus on posture–how Awareness Through Movement® can help us negotiate with gravity so we can sit\, stand and walk with greater presence and ease. The lessons this month will focus on finding more space and length in the spine and accessing the spine-supporting muscles of the abdomen\, pelvic floor\, and back. Gravity is a constant\, but you can learn to sense it and use it to give you more freedom.
URL:https://feldenkrais.com/event/posture/2026-10-30/
CATEGORIES:Online Classes
ORGANIZER;CN="Margaret Pierpont":MAILTO:mp.feldenkrais@gmail.com
END:VEVENT
BEGIN:VEVENT
DTSTART;TZID=America/New_York:20261106T100000
DTEND;TZID=America/New_York:20261106T110000
DTSTAMP:20260423T091139
CREATED:20260303T145346Z
LAST-MODIFIED:20260303T145346Z
UID:10421939-1793959200-1793962800@feldenkrais.com
SUMMARY:POSTURE
DESCRIPTION:March classes will focus on posture–how Awareness Through Movement® can help us negotiate with gravity so we can sit\, stand and walk with greater presence and ease. The lessons this month will focus on finding more space and length in the spine and accessing the spine-supporting muscles of the abdomen\, pelvic floor\, and back. Gravity is a constant\, but you can learn to sense it and use it to give you more freedom.
URL:https://feldenkrais.com/event/posture/2026-11-06/
CATEGORIES:Online Classes
ORGANIZER;CN="Margaret Pierpont":MAILTO:mp.feldenkrais@gmail.com
END:VEVENT
BEGIN:VEVENT
DTSTART;TZID=America/New_York:20261113T100000
DTEND;TZID=America/New_York:20261113T110000
DTSTAMP:20260423T091139
CREATED:20260303T145346Z
LAST-MODIFIED:20260303T145346Z
UID:10421940-1794564000-1794567600@feldenkrais.com
SUMMARY:POSTURE
DESCRIPTION:March classes will focus on posture–how Awareness Through Movement® can help us negotiate with gravity so we can sit\, stand and walk with greater presence and ease. The lessons this month will focus on finding more space and length in the spine and accessing the spine-supporting muscles of the abdomen\, pelvic floor\, and back. Gravity is a constant\, but you can learn to sense it and use it to give you more freedom.
URL:https://feldenkrais.com/event/posture/2026-11-13/
CATEGORIES:Online Classes
ORGANIZER;CN="Margaret Pierpont":MAILTO:mp.feldenkrais@gmail.com
END:VEVENT
END:VCALENDAR